Workbook
Name NDATA: #REF!
Name SDATA: #REF!

Sheet Instructions
A1: Step one: Create Master SKU
A2: a) Add SKUS from inventory sheet of the appropriate supplier prefix under INPUT on MASTER SKU sheet
A3: b) Copy out put and Paste Special Value under number
A4: c) Convert to numbers
A5: d) Verify Inventory Check sheet populates SKUs under Master SKY
A7: Step two: Supplier Data
A8: 1) Paste SKU and inventory data into respective columns
A9: 2) Verify Inventory Check sheet popullates data
A10: Step Three: Verify inventory status
A11: a) Filter by Check Inventory

Sheet MR Intentory Check
A1: MASTER SKU | B1: PLATFORM ID | C1: INVENTORY | D1: ROW | E1: Quantity | F1: STATUS | M1: Updated Inventory
A2: 45274 | B2: ='MR DATA'!B2 -> 13066 | C2: ='MR DATA'!D2 -> 61 | D2: =MATCH(Table15[[#This Row],[MASTER SKU]],B:B,0) -> #N/A | E2: {=INDEX(C:C,D2)} -> #N/A | F2: =IF(E2>50,"Good","Check Inventory") -> #N/A | M2: =IF('MR Intentory Check'!E2>=50,30,IF('MR Intentory Check'!E2<50,'MR Intentory Check'!E2,"Check Value")) -> #N/A
A3: 49117 | B3: ='MR DATA'!B3 -> 28024 | C3: ='MR DATA'!D3 -> 0 | D3: =MATCH(A3,B:B,0) -> #N/A | E3: {=INDEX(C:C,D3)} -> #N/A | F3: =IF(E3>50,"Good","Check Inventory") -> #N/A | M3: =IF('MR Intentory Check'!E3>=50,30,IF('MR Intentory Check'!E3<50,'MR Intentory Check'!E3,"Check Value")) -> #N/A
A4: 54174 | B4: ='MR DATA'!B4 -> 28025 | C4: ='MR DATA'!D4 -> 0 | D4: =MATCH(A4,B:B,0) -> #N/A | E4: {=INDEX(C:C,D4)} -> #N/A | F4: =IF(E4>50,"Good","Check Inventory") -> #N/A | M4: =IF('MR Intentory Check'!E4>=50,30,IF('MR Intentory Check'!E4<50,'MR Intentory Check'!E4,"Check Value")) -> #N/A
A5: 56803 | B5: ='MR DATA'!B5 -> 28076 | C5: ='MR DATA'!D5 -> 686 | D5: =MATCH(A5,B:B,0) -> #N/A | E5: {=INDEX(C:C,D5)} -> #N/A | F5: =IF(E5>50,"Good","Check Inventory") -> #N/A | M5: =IF('MR Intentory Check'!E5>=50,30,IF('MR Intentory Check'!E5<50,'MR Intentory Check'!E5,"Check Value")) -> #N/A
A6: 57507 | B6: ='MR DATA'!B6 -> 28081 | C6: ='MR DATA'!D6 -> 641 | D6: =MATCH(A6,B:B,0) -> #N/A | E6: {=INDEX(C:C,D6)} -> #N/A | F6: =IF(E6>50,"Good","Check Inventory") -> #N/A | M6: =IF('MR Intentory Check'!E6>=50,30,IF('MR Intentory Check'!E6<50,'MR Intentory Check'!E6,"Check Value")) -> #N/A
A7: 57349 | B7: ='MR DATA'!B7 -> 32506 | C7: ='MR DATA'!D7 -> 0 | D7: =MATCH(A7,B:B,0) -> #N/A | E7: {=INDEX(C:C,D7)} -> #N/A | F7: =IF(E7>50,"Good","Check Inventory") -> #N/A | M7: =IF('MR Intentory Check'!E7>=50,30,IF('MR Intentory Check'!E7<50,'MR Intentory Check'!E7,"Check Value")) -> #N/A
A8: 65232 | B8: ='MR DATA'!B8 -> 32514 | C8: ='MR DATA'!D8 -> 0 | D8: =MATCH(A8,B:B,0) -> #N/A | E8: {=INDEX(C:C,D8)} -> #N/A | F8: =IF(E8>50,"Good","Check Inventory") -> #N/A | M8: =IF('MR Intentory Check'!E8>=50,30,IF('MR Intentory Check'!E8<50,'MR Intentory Check'!E8,"Check Value")) -> #N/A
A9: 66427 | B9: ='MR DATA'!B9 -> 34596 | C9: ='MR DATA'!D9 -> 0 | D9: =MATCH(A9,B:B,0) -> #N/A | E9: {=INDEX(C:C,D9)} -> #N/A | F9: =IF(E9>50,"Good","Check Inventory") -> #N/A | M9: =IF('MR Intentory Check'!E9>=50,30,IF('MR Intentory Check'!E9<50,'MR Intentory Check'!E9,"Check Value")) -> #N/A
A10: 66425 | B10: ='MR DATA'!B10 -> 37200 | C10: ='MR DATA'!D10 -> 0 | D10: =MATCH(A10,B:B,0) -> #N/A | E10: {=INDEX(C:C,D10)} -> #N/A | F10: =IF(E10>50,"Good","Check Inventory") -> #N/A | M10: =IF('MR Intentory Check'!E10>=50,30,IF('MR Intentory Check'!E10<50,'MR Intentory Check'!E10,"Check Value")) -> #N/A
A11: 66454 | B11: ='MR DATA'!B11 -> 37202 | C11: ='MR DATA'!D11 -> 11 | D11: =MATCH(A11,B:B,0) -> #N/A | E11: {=INDEX(C:C,D11)} -> #N/A | F11: =IF(E11>50,"Good","Check Inventory") -> #N/A | M11: =IF('MR Intentory Check'!E11>=50,30,IF('MR Intentory Check'!E11<50,'MR Intentory Check'!E11,"Check Value")) -> #N/A
A12: 66718 | B12: ='MR DATA'!B12 -> 37203 | C12: ='MR DATA'!D12 -> 0 | D12: =MATCH(A12,B:B,0) -> #N/A | E12: {=INDEX(C:C,D12)} -> #N/A | F12: =IF(E12>50,"Good","Check Inventory") -> #N/A | M12: =IF('MR Intentory Check'!E12>=50,30,IF('MR Intentory Check'!E12<50,'MR Intentory Check'!E12,"Check Value")) -> #N/A
A13: 66815 | B13: ='MR DATA'!B13 -> 38158 | C13: ='MR DATA'!D13 -> 0 | D13: =MATCH(A13,B:B,0) -> #N/A | E13: {=INDEX(C:C,D13)} -> #N/A | F13: =IF(E13>50,"Good","Check Inventory") -> #N/A | M13: =IF('MR Intentory Check'!E13>=50,30,IF('MR Intentory Check'!E13<50,'MR Intentory Check'!E13,"Check Value")) -> #N/A
A14: 68863 | B14: ='MR DATA'!B14 -> 38400 | C14: ='MR DATA'!D14 -> 102 | D14: =MATCH(A14,B:B,0) -> #N/A | E14: {=INDEX(C:C,D14)} -> #N/A | F14: =IF(E14>50,"Good","Check Inventory") -> #N/A | M14: =IF('MR Intentory Check'!E14>=50,30,IF('MR Intentory Check'!E14<50,'MR Intentory Check'!E14,"Check Value")) -> #N/A
... A95: 50220 | B95: ='MR DATA'!B95 -> 50924 | C95: ='MR DATA'!D95 -> 0 | D95: =MATCH(A95,B:B,0) -> #N/A | E95: {=INDEX(C:C,D95)} -> #N/A | F95: =IF(E95>50,"Good","Check Inventory") -> #N/A | M95: =IF('MR Intentory Check'!E95>=50,30,IF('MR Intentory Check'!E95<50,'MR Intentory Check'!E95,"Check Value")) -> #N/A
B96: ='MR DATA'!B96 -> 50937 | C96: ='MR DATA'!D96 -> 0 | D96: =MATCH(A96,B:B,0) -> #N/A | E96: {=INDEX(C:C,D96)} -> #N/A | F96: =IF(E96>50,"Good","Check Inventory") -> #N/A | M96: =IF('MR Intentory Check'!E96>=50,30,IF('MR Intentory Check'!E96<50,'MR Intentory Check'!E96,"Check Value")) -> #N/A
B97: ='MR DATA'!B97 -> 50941 | C97: ='MR DATA'!D97 -> 0 | D97: =MATCH(A97,B:B,0) -> #N/A | E97: {=INDEX(C:C,D97)} -> #N/A | F97: =IF(E97>50,"Good","Check Inventory") -> #N/A | M97: =IF('MR Intentory Check'!E97>=50,30,IF('MR Intentory Check'!E97<50,'MR Intentory Check'!E97,"Check Value")) -> #N/A
B98: ='MR DATA'!B98 -> 50942 | C98: ='MR DATA'!D98 -> 0 | D98: =MATCH(A98,B:B,0) -> #N/A | E98: {=INDEX(C:C,D98)} -> #N/A | F98: =IF(E98>50,"Good","Check Inventory") -> #N/A | M98: =IF('MR Intentory Check'!E98>=50,30,IF('MR Intentory Check'!E98<50,'MR Intentory Check'!E98,"Check Value")) -> #N/A
B99: ='MR DATA'!B99 -> 50943 | C99: ='MR DATA'!D99 -> 0 | D99: =MATCH(A99,B:B,0) -> #N/A | E99: {=INDEX(C:C,D99)} -> #N/A | F99: =IF(E99>50,"Good","Check Inventory") -> #N/A | M99: =IF('MR Intentory Check'!E99>=50,30,IF('MR Intentory Check'!E99<50,'MR Intentory Check'!E99,"Check Value")) -> #N/A
B100: ='MR DATA'!B100 -> 52161 | C100: ='MR DATA'!D100 -> 0 | D100: =MATCH(A100,B:B,0) -> #N/A | E100: {=INDEX(C:C,D100)} -> #N/A | F100: =IF(E100>50,"Good","Check Inventory") -> #N/A | M100: =IF('MR Intentory Check'!E100>=50,30,IF('MR Intentory Check'!E100<50,'MR Intentory Check'!E100,"Check Value")) -> #N/A
B101: ='MR DATA'!B101 -> 52171 | C101: ='MR DATA'!D101 -> 0 | D101: =MATCH(A101,B:B,0) -> #N/A | E101: {=INDEX(C:C,D101)} -> #N/A | F101: =IF(E101>50,"Good","Check Inventory") -> #N/A | M101: =IF('MR Intentory Check'!E101>=50,30,IF('MR Intentory Check'!E101<50,'MR Intentory Check'!E101,"Check Value")) -> #N/A
B102: ='MR DATA'!B102 -> 52195 | C102: ='MR DATA'!D102 -> 0 | D102: =MATCH(A102,B:B,0) -> #N/A | E102: {=INDEX(C:C,D102)} -> #N/A | F102: =IF(E102>50,"Good","Check Inventory") -> #N/A | M102: =IF('MR Intentory Check'!E102>=50,30,IF('MR Intentory Check'!E102<50,'MR Intentory Check'!E102,"Check Value")) -> #N/A
B103: ='MR DATA'!B103 -> 52213 | C103: ='MR DATA'!D103 -> 0 | D103: =MATCH(A103,B:B,0) -> #N/A | E103: {=INDEX(C:C,D103)} -> #N/A | F103: =IF(E103>50,"Good","Check Inventory") -> #N/A | M103: =IF('MR Intentory Check'!E103>=50,30,IF('MR Intentory Check'!E103<50,'MR Intentory Check'!E103,"Check Value")) -> #N/A
B104: ='MR DATA'!B104 -> 52314 | C104: ='MR DATA'!D104 -> 0 | D104: =MATCH(A104,B:B,0) -> #N/A | E104: {=INDEX(C:C,D104)} -> #N/A | F104: =IF(E104>50,"Good","Check Inventory") -> #N/A | M104: =IF('MR Intentory Check'!E104>=50,30,IF('MR Intentory Check'!E104<50,'MR Intentory Check'!E104,"Check Value")) -> #N/A
B105: ='MR DATA'!B105 -> 52407 | C105: ='MR DATA'!D105 -> 0 | D105: =MATCH(A105,B:B,0) -> #N/A | E105: {=INDEX(C:C,D105)} -> #N/A | F105: =IF(E105>50,"Good","Check Inventory") -> #N/A | M105: =IF('MR Intentory Check'!E105>=50,30,IF('MR Intentory Check'!E105<50,'MR Intentory Check'!E105,"Check Value")) -> #N/A
B106: ='MR DATA'!B106 -> 52588 | C106: ='MR DATA'!D106 -> 0 | D106: =MATCH(A106,B:B,0) -> #N/A | E106: {=INDEX(C:C,D106)} -> #N/A | F106: =IF(E106>50,"Good","Check Inventory") -> #N/A | M106: =IF('MR Intentory Check'!E106>=50,30,IF('MR Intentory Check'!E106<50,'MR Intentory Check'!E106,"Check Value")) -> #N/A
B107: ='MR DATA'!B107 -> 52589 | C107: ='MR DATA'!D107 -> 0 | D107: =MATCH(A107,B:B,0) -> #N/A | E107: {=INDEX(C:C,D107)} -> #N/A | F107: =IF(E107>50,"Good","Check Inventory") -> #N/A | M107: =IF('MR Intentory Check'!E107>=50,30,IF('MR Intentory Check'!E107<50,'MR Intentory Check'!E107,"Check Value")) -> #N/A
... B796: ='MR DATA'!B796 -> 72960 | C796: ='MR DATA'!D796 -> 0 | D796: =MATCH(A796,B:B,0) -> #N/A | E796: {=INDEX(C:C,D796)} -> #N/A | F796: =IF(E796>50,"Good","Check Inventory") -> #N/A | M796: =IF('MR Intentory Check'!E796>=50,30,IF('MR Intentory Check'!E796<50,'MR Intentory Check'!E796,"Check Value")) -> #N/A
B797: ='MR DATA'!B797 -> 72962 | C797: ='MR DATA'!D797 -> 0
B798: ='MR DATA'!B798 -> 72966 | C798: ='MR DATA'!D798 -> 0
B799: ='MR DATA'!B799 -> 72982 | C799: ='MR DATA'!D799 -> 0
B800: ='MR DATA'!B800 -> 72989 | C800: ='MR DATA'!D800 -> 150
B801: ='MR DATA'!B801 -> 72994 | C801: ='MR DATA'!D801 -> 0
B802: ='MR DATA'!B802 -> 73014 | C802: ='MR DATA'!D802 -> 0
B803: ='MR DATA'!B803 -> 73017 | C803: ='MR DATA'!D803 -> 0
B804: ='MR DATA'!B804 -> 73031 | C804: ='MR DATA'!D804 -> 0
B805: ='MR DATA'!B805 -> 73036 | C805: ='MR DATA'!D805 -> 0
B806: ='MR DATA'!B806 -> 73044 | C806: ='MR DATA'!D806 -> 26
B807: ='MR DATA'!B807 -> 73049 | C807: ='MR DATA'!D807 -> 0
B808: ='MR DATA'!B808 -> 73055 | C808: ='MR DATA'!D808 -> 0
...

Sheet MWG Inventory Check
A1: MASTER SKU | B1: PLATFORM ID | C1: INVENTORY | D1: ROW | E1: Quantity | F1: STATUS | M1: Updated Inventory
A2: 10015345 | B2: ='MWG DATA'!A2 -> 10018083 | C2: ='MWG DATA'!G2 -> 0 | D2: =MATCH(A2,B:B,0) -> 400 | E2: {=INDEX(C:C,D2)} -> 240 | F2: =IF(E2>50,"Good","Check Inventory") -> Good | M2: =IF('MWG Inventory Check'!E2>=50,30,IF('MWG Inventory Check'!E2<50,'MWG Inventory Check'!E2,"Check Value")) -> 30 | O2: 30
A3: 15081 | B3: ='MWG DATA'!A3 -> 12047 | C3: ='MWG DATA'!G3 -> 240 | D3: =MATCH(A3,B:B,0) -> 172 | E3: {=INDEX(C:C,D3)} -> 240 | F3: =IF(E3>50,"Good","Check Inventory") -> Good | M3: =IF('MWG Inventory Check'!E3>=50,30,IF('MWG Inventory Check'!E3<50,'MWG Inventory Check'!E3,"Check Value")) -> 30 | O3: 30
A4: 14633S | B4: ='MWG DATA'!A4 -> 12053 | C4: ='MWG DATA'!G4 -> 0 | D4: =MATCH(A4,B:B,0) -> 127 | E4: {=INDEX(C:C,D4)} -> 240 | F4: =IF(E4>50,"Good","Check Inventory") -> Good | M4: =IF('MWG Inventory Check'!E4>=50,30,IF('MWG Inventory Check'!E4<50,'MWG Inventory Check'!E4,"Check Value")) -> 30 | O4: 30
A5: 10018862 | B5: ='MWG DATA'!A5 -> 12109 | C5: ='MWG DATA'!G5 -> 0 | D5: =MATCH(A5,B:B,0) -> 2210 | E5: {=INDEX(C:C,D5)} -> 240 | F5: =IF(E5>50,"Good","Check Inventory") -> Good | M5: =IF('MWG Inventory Check'!E5>=50,30,IF('MWG Inventory Check'!E5<50,'MWG Inventory Check'!E5,"Check Value")) -> 30 | O5: 30
A6: 10018167 | B6: ='MWG DATA'!A6 -> 12117 | C6: ='MWG DATA'!G6 -> 240 | D6: =MATCH(A6,B:B,0) -> 1305 | E6: {=INDEX(C:C,D6)} -> 169 | F6: =IF(E6>50,"Good","Check Inventory") -> Good | M6: =IF('MWG Inventory Check'!E6>=50,30,IF('MWG Inventory Check'!E6<50,'MWG Inventory Check'!E6,"Check Value")) -> 30 | O6: 30
A7: 10018695 | B7: ='MWG DATA'!A7 -> 12266 | C7: ='MWG DATA'!G7 -> 0 | D7: =MATCH(A7,B:B,0) -> 1736 | E7: {=INDEX(C:C,D7)} -> 240 | F7: =IF(E7>50,"Good","Check Inventory") -> Good | M7: =IF('MWG Inventory Check'!E7>=50,30,IF('MWG Inventory Check'!E7<50,'MWG Inventory Check'!E7,"Check Value")) -> 30 | O7: 30
A8: 10018489 | B8: ='MWG DATA'!A8 -> 12287 | C8: ='MWG DATA'!G8 -> 0 | D8: =MATCH(A8,B:B,0) -> 1560 | E8: {=INDEX(C:C,D8)} -> 240 | F8: =IF(E8>50,"Good","Check Inventory") -> Good | M8: =IF('MWG Inventory Check'!E8>=50,30,IF('MWG Inventory Check'!E8<50,'MWG Inventory Check'!E8,"Check Value")) -> 30 | O8: 30
A9: 10019052 | B9: ='MWG DATA'!A9 -> 12288 | C9: ='MWG DATA'!G9 -> 0 | D9: =MATCH(A9,B:B,0) -> 2272 | E9: {=INDEX(C:C,D9)} -> 209 | F9: =IF(E9>50,"Good","Check Inventory") -> Good | M9: =IF('MWG Inventory Check'!E9>=50,30,IF('MWG Inventory Check'!E9<50,'MWG Inventory Check'!E9,"Check Value")) -> 30 | O9: 30
A10: 10018992 | B10: ='MWG DATA'!A10 -> 12295 | C10: ='MWG DATA'!G10 -> 0 | D10: =MATCH(A10,B:B,0) -> 2376 | E10: {=INDEX(C:C,D10)} -> 137 | F10: =IF(E10>50,"Good","Check Inventory") -> Good | M10: =IF('MWG Inventory Check'!E10>=50,30,IF('MWG Inventory Check'!E10<50,'MWG Inventory Check'!E10,"Check Value")) -> 30 | O10: 30
A11: 10018490 | B11: ='MWG DATA'!A11 -> 12302 | C11: ='MWG DATA'!G11 -> 0 | D11: =MATCH(A11,B:B,0) -> 1561 | E11: {=INDEX(C:C,D11)} -> 164 | F11: =IF(E11>50,"Good","Check Inventory") -> Good | M11: =IF('MWG Inventory Check'!E11>=50,30,IF('MWG Inventory Check'!E11<50,'MWG Inventory Check'!E11,"Check Value")) -> 30 | O11: 30
A12: 10018072 | B12: ='MWG DATA'!A12 -> 12492 | C12: ='MWG DATA'!G12 -> 240 | D12: =MATCH(A12,B:B,0) -> 1242 | E12: {=INDEX(C:C,D12)} -> 0 | F12: =IF(E12>50,"Good","Check Inventory") -> Check Inventory | M12: =IF('MWG Inventory Check'!E12>=50,30,IF('MWG Inventory Check'!E12<50,'MWG Inventory Check'!E12,"Check Value")) -> 0 | O12: 0
A13: 4506333 | B13: ='MWG DATA'!A13 -> 12503 | C13: ='MWG DATA'!G13 -> 240 | D13: =MATCH(A13,B:B,0) -> 2566 | E13: {=INDEX(C:C,D13)} -> 240 | F13: =IF(E13>50,"Good","Check Inventory") -> Good | M13: =IF('MWG Inventory Check'!E13>=50,30,IF('MWG Inventory Check'!E13<50,'MWG Inventory Check'!E13,"Check Value")) -> 30 | O13: 30
A14: 10018960 | B14: ='MWG DATA'!A14 -> 12506 | C14: ='MWG DATA'!G14 -> 240 | D14: =MATCH(A14,B:B,0) -> 2504 | E14: {=INDEX(C:C,D14)} -> 136 | F14: =IF(E14>50,"Good","Check Inventory") -> Good | M14: =IF('MWG Inventory Check'!E14>=50,30,IF('MWG Inventory Check'!E14<50,'MWG Inventory Check'!E14,"Check Value")) -> 30 | O14: 30
A15: 10018631 | B15: ='MWG DATA'!A15 -> 12507 | C15: ='MWG DATA'!G15 -> 240 | D15: =MATCH(A15,B:B,0) -> 1693 | E15: {=INDEX(C:C,D15)} -> 203 | F15: =IF(E15>50,"Good","Check Inventory") -> Good | M15: =IF('MWG Inventory Check'!E15>=50,30,IF('MWG Inventory Check'!E15<50,'MWG Inventory Check'!E15,"Check Value")) -> 30 | O15: 30
A16: 14751 | B16: ='MWG DATA'!A16 -> 12516 | C16: ='MWG DATA'!G16 -> 0 | D16: =MATCH(A16,B:B,0) -> 148 | E16: {=INDEX(C:C,D16)} -> 240 | F16: =IF(E16>50,"Good","Check Inventory") -> Good | M16: =IF('MWG Inventory Check'!E16>=50,30,IF('MWG Inventory Check'!E16<50,'MWG Inventory Check'!E16,"Check Value")) -> 30 | O16: 30
... A36: 10018526 | B36: ='MWG DATA'!A36 -> 12841 | C36: ='MWG DATA'!G36 -> 0 | D36: =MATCH(A36,B:B,0) -> 1597 | E36: {=INDEX(C:C,D36)} -> 55 | F36: =IF(E36>50,"Good","Check Inventory") -> Good | M36: =IF('MWG Inventory Check'!E36>=50,30,IF('MWG Inventory Check'!E36<50,'MWG Inventory Check'!E36,"Check Value")) -> 30 | O36: 30
A37: D1082 | B37: ='MWG DATA'!A37 -> 12842 | C37: ='MWG DATA'!G37 -> 0 | D37: =MATCH(A37,B:B,0) -> 2043 | E37: {=INDEX(C:C,D37)} -> 240 | F37: =IF(E37>50,"Good","Check Inventory") -> Good | M37: =IF('MWG Inventory Check'!E37>=50,30,IF('MWG Inventory Check'!E37<50,'MWG Inventory Check'!E37,"Check Value")) -> 30 | O37: 30
A38: 10018612 | B38: ='MWG DATA'!A38 -> 12844 | C38: ='MWG DATA'!G38 -> 32 | D38: =MATCH(A38,B:B,0) -> 1676 | E38: {=INDEX(C:C,D38)} -> 240 | F38: =IF(E38>50,"Good","Check Inventory") -> Good | M38: =IF('MWG Inventory Check'!E38>=50,30,IF('MWG Inventory Check'!E38<50,'MWG Inventory Check'!E38,"Check Value")) -> 30 | O38: 30
A39: 13056 | B39: ='MWG DATA'!A39 -> 12859 | C39: ='MWG DATA'!G39 -> 0 | D39: =MATCH(A39,B:B,0) -> 48 | E39: {=INDEX(C:C,D39)} -> 219 | F39: =IF(E39>50,"Good","Check Inventory") -> Good | M39: =IF('MWG Inventory Check'!E39>=50,30,IF('MWG Inventory Check'!E39<50,'MWG Inventory Check'!E39,"Check Value")) -> 30 | O39: 30
A40: 37095 | B40: ='MWG DATA'!A40 -> 12967 | C40: ='MWG DATA'!G40 -> 240 | D40: =MATCH(A40,B:B,0) -> 308 | E40: {=INDEX(C:C,D40)} -> 240 | F40: =IF(E40>50,"Good","Check Inventory") -> Good | M40: =IF('MWG Inventory Check'!E40>=50,30,IF('MWG Inventory Check'!E40<50,'MWG Inventory Check'!E40,"Check Value")) -> 30 | O40: 30
A41: 10016157 | B41: ='MWG DATA'!A41 -> 12981 | C41: ='MWG DATA'!G41 -> 0 | D41: =MATCH(A41,B:B,0) -> 599 | E41: {=INDEX(C:C,D41)} -> 105 | F41: =IF(E41>50,"Good","Check Inventory") -> Good | M41: =IF('MWG Inventory Check'!E41>=50,30,IF('MWG Inventory Check'!E41<50,'MWG Inventory Check'!E41,"Check Value")) -> 30 | O41: 30
A42: 10015877 | B42: ='MWG DATA'!A42 -> 12982 | C42: ='MWG DATA'!G42 -> 240 | D42: =MATCH(A42,B:B,0) -> 523 | E42: {=INDEX(C:C,D42)} -> 66 | F42: =IF(E42>50,"Good","Check Inventory") -> Good | M42: =IF('MWG Inventory Check'!E42>=50,30,IF('MWG Inventory Check'!E42<50,'MWG Inventory Check'!E42,"Check Value")) -> 30 | O42: 30
A43: 10015674 | B43: ='MWG DATA'!A43 -> 13000 | C43: ='MWG DATA'!G43 -> 240 | D43: =MATCH(A43,B:B,0) -> 473 | E43: {=INDEX(C:C,D43)} -> 146 | F43: =IF(E43>50,"Good","Check Inventory") -> Good | M43: =IF('MWG Inventory Check'!E43>=50,30,IF('MWG Inventory Check'!E43<50,'MWG Inventory Check'!E43,"Check Value")) -> 30 | O43: 30
A44: 10017000 | B44: ='MWG DATA'!A44 -> 13046 | C44: ='MWG DATA'!G44 -> 240 | D44: =MATCH(A44,B:B,0) -> 751 | E44: {=INDEX(C:C,D44)} -> 227 | F44: =IF(E44>50,"Good","Check Inventory") -> Good | M44: =IF('MWG Inventory Check'!E44>=50,30,IF('MWG Inventory Check'!E44<50,'MWG Inventory Check'!E44,"Check Value")) -> 30 | O44: 30
A45: 10018382 | B45: ='MWG DATA'!A45 -> 13048 | C45: ='MWG DATA'!G45 -> 0 | D45: =MATCH(A45,B:B,0) -> 1469 | E45: {=INDEX(C:C,D45)} -> 63 | F45: =IF(E45>50,"Good","Check Inventory") -> Good | M45: =IF('MWG Inventory Check'!E45>=50,30,IF('MWG Inventory Check'!E45<50,'MWG Inventory Check'!E45,"Check Value")) -> 30 | O45: 30
A46: 10017701 | B46: ='MWG DATA'!A46 -> 13053 | C46: ='MWG DATA'!G46 -> 240 | D46: =MATCH(A46,B:B,0) -> 1022 | E46: {=INDEX(C:C,D46)} -> 240 | F46: =IF(E46>50,"Good","Check Inventory") -> Good | M46: =IF('MWG Inventory Check'!E46>=50,30,IF('MWG Inventory Check'!E46<50,'MWG Inventory Check'!E46,"Check Value")) -> 30 | O46: 30
A47: 12506 | B47: ='MWG DATA'!A47 -> 13055 | C47: ='MWG DATA'!G47 -> 0 | D47: =MATCH(A47,B:B,0) -> 14 | E47: {=INDEX(C:C,D47)} -> 240 | F47: =IF(E47>50,"Good","Check Inventory") -> Good | M47: =IF('MWG Inventory Check'!E47>=50,30,IF('MWG Inventory Check'!E47<50,'MWG Inventory Check'!E47,"Check Value")) -> 30 | O47: 30
A48: 10018915 | B48: ='MWG DATA'!A48 -> 13056 | C48: ='MWG DATA'!G48 -> 219 | D48: =MATCH(A48,B:B,0) -> 2414 | E48: {=INDEX(C:C,D48)} -> 240 | F48: =IF(E48>50,"Good","Check Inventory") -> Good | M48: =IF('MWG Inventory Check'!E48>=50,30,IF('MWG Inventory Check'!E48<50,'MWG Inventory Check'!E48,"Check Value")) -> 30 | O48: 30
A49: 34715 | B49: ='MWG DATA'!A49 -> 13057 | C49: ='MWG DATA'!G49 -> 0 | D49: =MATCH(A49,B:B,0) -> 278 | E49: {=INDEX(C:C,D49)} -> 85 | F49: =IF(E49>50,"Good","Check Inventory") -> Good | M49: =IF('MWG Inventory Check'!E49>=50,30,IF('MWG Inventory Check'!E49<50,'MWG Inventory Check'!E49,"Check Value")) -> 30 | O49: 30
... A56: 27128 | B56: ='MWG DATA'!A56 -> 13240 | C56: ='MWG DATA'!G56 -> 0 | D56: =MATCH(A56,B:B,0) -> 226 | E56: {=INDEX(C:C,D56)} -> 240 | F56: =IF(E56>50,"Good","Check Inventory") -> Good | M56: =IF('MWG Inventory Check'!E56>=50,30,IF('MWG Inventory Check'!E56<50,'MWG Inventory Check'!E56,"Check Value")) -> 30 | O56: 30
A57: 14652S | B57: ='MWG DATA'!A57 -> 13244 | C57: ='MWG DATA'!G57 -> 240 | D57: =MATCH(A57,B:B,0) -> 132 | E57: {=INDEX(C:C,D57)} -> 240 | F57: =IF(E57>50,"Good","Check Inventory") -> Good | M57: =IF('MWG Inventory Check'!E57>=50,30,IF('MWG Inventory Check'!E57<50,'MWG Inventory Check'!E57,"Check Value")) -> 30 | O57: 30
A58: 14568 | B58: ='MWG DATA'!A58 -> 13245 | C58: ='MWG DATA'!G58 -> 240 | D58: =MATCH(A58,B:B,0) -> 116 | E58: {=INDEX(C:C,D58)} -> 126 | F58: =IF(E58>50,"Good","Check Inventory") -> Good | M58: =IF('MWG Inventory Check'!E58>=50,30,IF('MWG Inventory Check'!E58<50,'MWG Inventory Check'!E58,"Check Value")) -> 30 | O58: 30
A59: 14118 | B59: ='MWG DATA'!A59 -> 13246 | C59: ='MWG DATA'!G59 -> 125 | D59: =MATCH(A59,B:B,0) -> 101 | E59: {=INDEX(C:C,D59)} -> 240 | F59: =IF(E59>50,"Good","Check Inventory") -> Good | M59: =IF('MWG Inventory Check'!E59>=50,30,IF('MWG Inventory Check'!E59<50,'MWG Inventory Check'!E59,"Check Value")) -> 30 | O59: 30
A60: 10019129 | B60: ='MWG DATA'!A60 -> 13347 | C60: ='MWG DATA'!G60 -> 0 | D60: =MATCH(A60,B:B,0) -> 2312 | E60: {=INDEX(C:C,D60)} -> 154 | F60: =IF(E60>50,"Good","Check Inventory") -> Good | M60: =IF('MWG Inventory Check'!E60>=50,30,IF('MWG Inventory Check'!E60<50,'MWG Inventory Check'!E60,"Check Value")) -> 30 | O60: 30
A61: 10018807 | B61: ='MWG DATA'!A61 -> 13356 | C61: ='MWG DATA'!G61 -> 0 | D61: =MATCH(A61,B:B,0) -> 2460 | E61: {=INDEX(C:C,D61)} -> 240 | F61: =IF(E61>50,"Good","Check Inventory") -> Good | M61: =IF('MWG Inventory Check'!E61>=50,30,IF('MWG Inventory Check'!E61<50,'MWG Inventory Check'!E61,"Check Value")) -> 30 | O61: 30
A62: 10018833 | B62: ='MWG DATA'!A62 -> 13360 | C62: ='MWG DATA'!G62 -> 240 | D62: =MATCH(A62,B:B,0) -> 2295 | E62: {=INDEX(C:C,D62)} -> 65 | F62: =IF(E62>50,"Good","Check Inventory") -> Good | M62: =IF('MWG Inventory Check'!E62>=50,30,IF('MWG Inventory Check'!E62<50,'MWG Inventory Check'!E62,"Check Value")) -> 30 | O62: 30
A63: 10018696 | B63: ='MWG DATA'!A63 -> 13361 | C63: ='MWG DATA'!G63 -> 240 | D63: =MATCH(A63,B:B,0) -> 1737 | E63: {=INDEX(C:C,D63)} -> 147 | F63: =IF(E63>50,"Good","Check Inventory") -> Good | M63: =IF('MWG Inventory Check'!E63>=50,30,IF('MWG Inventory Check'!E63<50,'MWG Inventory Check'!E63,"Check Value")) -> 30 | O63: 30
A64: 10018679 | B64: ='MWG DATA'!A64 -> 13362 | C64: ='MWG DATA'!G64 -> 240 | D64: =MATCH(A64,B:B,0) -> 1721 | E64: {=INDEX(C:C,D64)} -> 47 | F64: =IF(E64>50,"Good","Check Inventory") -> Check Inventory | M64: =IF('MWG Inventory Check'!E64>=50,30,IF('MWG Inventory Check'!E64<50,'MWG Inventory Check'!E64,"Check Value")) -> 47 | O64: 47
A65: 10018544 | B65: ='MWG DATA'!A65 -> 13363 | C65: ='MWG DATA'!G65 -> 0 | D65: =MATCH(A65,B:B,0) -> 1615 | E65: {=INDEX(C:C,D65)} -> 216 | F65: =IF(E65>50,"Good","Check Inventory") -> Good | M65: =IF('MWG Inventory Check'!E65>=50,30,IF('MWG Inventory Check'!E65<50,'MWG Inventory Check'!E65,"Check Value")) -> 30 | O65: 30
...

Sheet NEMBOL DATA
A1: id | B1: name | C1: option_1_name | D1: option_1_value | E1: option_2_name | F1: option_2_value | G1: option_3_name | H1: option_3_value | I1: sku | J1: gtin | K1: asin | L1: quantity | M1: price | N1: MOD SKU
A2: 6345c17e07e2b83d87b872be | B2: Lantern (Set of 3) 11.5', 17', 24'H Metal/Glass | I2: MR45274 | L2: 30 | M2: 169.99 | N2: 45274
A3: 6345c18307e2b8f9cbb872d5 | B3: Lantern Wreath Holder 43.5'H Metal/Glass | I3: MR49117 | L3: 30 | M3: 89.99 | N3: 49117
A4: 6345c1a007e2b8381db873ab | B4: Lantern (Set of 2) 13.5'-19.5'H Iron/Glass | I4: MR54174 | L4: 30 | M4: 119.99 | N4: 54174
A5: 6345c1a207e2b86ca8b873b3 | B5: Lanterns (Set of 2) 21'H, 16'H Metal/Glass | I5: MR56803 | L5: 30 | M5: 189.99 | N5: 56803
A6: 6345c1a807e2b89283b873c3 | B6: Lantern Tree w/3 Lanterns 71'H Iron | I6: MR57507 | L6: 30 | M6: 234.99 | N6: 57507
A7: 6345c1a407e2b870a1b873b8 | B7: Lantern (Set of 3) 14'H, 17'H, 20'H Metal/Glass | I7: MR57349 | L7: 30 | M7: 124.99 | N7: 57349
A8: 6345c1b107e2b80f22b873e6 | B8: Lanterns (Set of 2) 20'H, 25'H Metal/Glass | I8: MR65232 | L8: 30 | M8: 174.99 | N8: 65232
A9: 6345c1bb07e2b88fd0b873fc | B9: Lanterns (Set of 3) 12'H, 16.5'H, 21.5'H Metal/Glass/Wood | I9: MR66427 | L9: 30 | M9: 174.99 | N9: 66427
A10: 6345c1b607e2b857c0b873f0 | B10: Lanterns (Set of 2) 13.5'H, 20'H Wood/Metal/Glass | I10: MR66425 | L10: 30 | M10: 139.99 | N10: 66425
A11: 6345c1bd07e2b85a97b87401 | B11: Lanterns (Set of 2) 21'H, 28'H Wood/Metal/Glass | I11: MR66454 | L11: 30 | M11: 199.99 | N11: 66454
A12: 6345c1c107e2b838bcb874c1 | B12: Lanterns w/Stand (Set of 2) 32'H, 53'H Metal/Glass | I12: MR66718 | L12: 30 | M12: 334.99 | N12: 66718
A13: 6345c1c307e2b8c4f5b874c6 | B13: Lanterns (Set of 2) 21'H, 27.5'H Wood/Metal/Glass | I13: MR66815 | L13: 30 | M13: 174.99 | N13: 66815
... A35: 633b3a7c2c02ac3e73308634 | B35: Colonial Carved Side Table | I35: MW15081 | L35: 30 | M35: 199.99 | N35: 15081
A36: 633b3a7b2c02ace892308628 | B36: VICTORIAN HURRICANE LANTERN | I36: MW14633S | L36: 30 | M36: 64.99 | N36: 14633S
A37: 62e0b035244bcb1b45cf8f0d | B37: FLEUR-DE-LIS BOOKENDS | I37: MW10018862 | J37: 849000000000 | L37: 30 | M37: 124.99 | N37: 10018862
A38: 62e0b02f244bcb8101cf8e8f | B38: Sleek Wooden Wine Wall Rack | I38: MW10018167 | J38: 849000000000 | L38: 30 | M38: 169.99 | N38: 10018167
A39: 62e0b034244bcb376ecf8eed | B39: Playful Bunnies Bird Feeder | I39: MW10018695 | J39: 849000000000 | L39: 30 | M39: 109.99 | N39: 10018695
A40: 62e0b031244bcb9eeacf8eb6 | B40: Hanging Mirror With Faux Leather Strap | I40: MW10018489 | J40: 849000000000 | L40: 30 | M40: 104.99 | N40: 10018489
A41: 62e0b03e244bcb258fcf8f91 | B41: CHEF W/WIFI SIGN AND CLOCK | I41: MW10019052 | J41: 849000000000 | L41: 30 | M41: 109.99 | N41: 10019052
A42: 62e0b03b244bcb4b96cf8f6e | B42: FLEUR-DE-LIS WALL SCONCE | I42: MW10018992 | J42: 849000000000 | L42: 30 | M42: 109.99 | N42: 10018992
A43: 62e0b031244bcbaee9cf8ebb | B43: Golden Petals Wall Mirror | I43: MW10018490 | J43: 849000000000 | L43: 30 | M43: 99.99 | N43: 10018490
A44: 62e0b02e244bcb4d29cf8e80 | B44: Gold Royal Crown Wall Mirror | I44: MW10018072 | J44: 849000000000 | L44: 30 | M44: 104.99 | N44: 10018072
A45: 6233ac89a5f7dacf6439f921 | B45: NEUTRAL GARDEN DANGLING MINI POTS | I45: MW4506333 | J45: 849000000000 | K45: B099V4HTVM | L45: 30 | M45: 69.99 | N45: 4506333
A46: 62e0b039244bcb6cd6cf8f57 | B46: STACKED SOLAR GNOME FIGURINE | I46: MW10018960 | J46: 849000000000 | L46: 30 | M46: 124.99 | N46: 10018960
A47: 6262e56c7348ae1f9ff19d97 | B47: 26 BRONZE DOGS WIND CHIMES | I47: MW10018631 | J47: B07H663ZHC | L47: 30 | M47: 69.99 | N47: 10018631
A48: 62d82b880facf10d3fc87ec3 | B48: Passat Ship Model | I48: MW14751 | L48: 30 | M48: 94.99 | N48: 14751
A49: 627aabba765d63852c71b134 | B49: EVA ROUND WOOD MIRROR WITH HOOK | I49: MW5001002 | J49: 849000000000 | K49: B07VB5QCQQ | L49: 30 | M49: 204.99 | N49: 5001002
A50: 62d82b980facf10d3fc884d4 | B50: White Wood Wall Mirror | I50: MW33666 | L50: 30 | M50: 94.99 | N50: 33666
A51: 62d82b9a0facf10d3fc88736 | B51: Tulip Oil Warmers Blue Red and Green (Set of 3) - Cute Home Candle Decoration. Essential oil warmer | I51: MW33646 | L51: 30 | M51: 49.99 | N51: 33646
A52: 62d82b900facf10d3fc880e8 | B52: SET of 2! Coconut Tree Candle Holders | I52: MW36006 | L52: 30 | M52: 69.99 | N52: 36006
A53: 62d82b980facf10d3fc88510 | B53: Cotton Padded Swing Chair Hammock | I53: MW34302 | L53: 30 | M53: 114.99 | N53: 34302
A54: 62d82b9a0facf10d3fc88687 | B54: Palm Tree Rattan Table Lamp | I54: MW37989 | L54: 30 | M54: 174.99 | N54: 37989
A55: 62d82b9b0facf10d3fc8879a | B55: Set of 2 White indoor/outdoor Railroad Candle Lanterns | I55: MW39572 | L55: 30 | M55: 54.99 | N55: 39572
A56: 62d82b6e0facf10d3fc8750f | B56: Set of 2 Rustic Antler Candle Holder | I56: MW38444 | L56: 30 | M56: 54.99 | N56: 38444
A57: 6164d2efc8c9f047953987f9 | B57: IBERIA BLACK AND GOLD VASE | I57: MW5001058 | J57: 849000000000 | L57: 30 | M57: 99.99 | N57: 5001058
A58: 6342557fc29bdb04c95372c4 | B58: Rose Metal Frame Caring Lantern | I58: MW10018524 | L58: 30 | M58: 69.99 | N58: 10018524
A59: 634255a2c29bdb165c537382 | B59: SET OF 3 TROPICAL MINI LANTERNS | I59: MW10019090 | L59: 30 | M59: 59.99 | N59: 10019090
A60: 633cfc585f9ec8eae468fa9f | B60: Baby Blue Hanging Railroad Lanterns | I60: MW10017408 | L60: 30 | M60: 59.99 | N60: 10017408
A61: 633cfc515f9ec80c8768fa6e | B61: Climbing Squirrel Decor | I61: MW10017279 | L61: 30 | M61: 89.99 | N61: 10017279
...

Sheet Sheet1
A1: 633b3a852c02acfc9b308668 | B1: Peaceful Buddha Oil Warmer | I1: MW10015345 | L1: 30 | M1: 44.99 | N1: 10015345
A2: 633b3a7c2c02ac3e73308634 | B2: Colonial Carved Side Table | I2: MW15081 | L2: 30 | M2: 199.99 | N2: 15081
A3: 633b3a7b2c02ace892308628 | B3: VICTORIAN HURRICANE LANTERN | I3: MW14633S | L3: 30 | M3: 64.99 | N3: 14633S
A4: 62e0b035244bcb1b45cf8f0d | B4: FLEUR-DE-LIS BOOKENDS | I4: MW10018862 | J4: 849000000000 | L4: 30 | M4: 124.99 | N4: 10018862
A5: 62e0b02f244bcb8101cf8e8f | B5: Sleek Wooden Wine Wall Rack | I5: MW10018167 | J5: 849000000000 | L5: 30 | M5: 169.99 | N5: 10018167
A6: 62e0b034244bcb376ecf8eed | B6: Playful Bunnies Bird Feeder | I6: MW10018695 | J6: 849000000000 | L6: 30 | M6: 109.99 | N6: 10018695
A7: 62e0b031244bcb9eeacf8eb6 | B7: Hanging Mirror With Faux Leather Strap | I7: MW10018489 | J7: 849000000000 | L7: 30 | M7: 104.99 | N7: 10018489
A8: 62e0b03e244bcb258fcf8f91 | B8: CHEF W/WIFI SIGN AND CLOCK | I8: MW10019052 | J8: 849000000000 | L8: 30 | M8: 109.99 | N8: 10019052
A9: 62e0b03b244bcb4b96cf8f6e | B9: FLEUR-DE-LIS WALL SCONCE | I9: MW10018992 | J9: 849000000000 | L9: 30 | M9: 109.99 | N9: 10018992
A10: 62e0b031244bcbaee9cf8ebb | B10: Golden Petals Wall Mirror | I10: MW10018490 | J10: 849000000000 | L10: 30 | M10: 99.99 | N10: 10018490
A11: 62e0b02e244bcb4d29cf8e80 | B11: Gold Royal Crown Wall Mirror | I11: MW10018072 | J11: 849000000000 | L11: 0 | M11: 104.99 | N11: 10018072
A12: 6233ac89a5f7dacf6439f921 | B12: NEUTRAL GARDEN DANGLING MINI POTS | I12: MW4506333 | J12: 849000000000 | K12: B099V4HTVM | L12: 30 | M12: 69.99 | N12: 4506333
A13: 62e0b039244bcb6cd6cf8f57 | B13: STACKED SOLAR GNOME FIGURINE | I13: MW10018960 | J13: 849000000000 | L13: 30 | M13: 124.99 | N13: 10018960
A14: 6262e56c7348ae1f9ff19d97 | B14: 26 BRONZE DOGS WIND CHIMES | I14: MW10018631 | J14: B07H663ZHC | L14: 30 | M14: 69.99 | N14: 10018631
A15: 62d82b880facf10d3fc87ec3 | B15: Passat Ship Model | I15: MW14751 | L15: 30 | M15: 94.99 | N15: 14751
A16: 627aabba765d63852c71b134 | B16: EVA ROUND WOOD MIRROR WITH HOOK | I16: MW5001002 | J16: 849000000000 | K16: B07VB5QCQQ | L16: 30 | M16: 204.99 | N16: 5001002
A17: 62d82b980facf10d3fc884d4 | B17: White Wood Wall Mirror | I17: MW33666 | L17: 30 | M17: 94.99 | N17: 33666
A18: 62d82b9a0facf10d3fc88736 | B18: Tulip Oil Warmers Blue Red and Green (Set of 3) - Cute Home Candle Decoration. Essential oil warmer | I18: MW33646 | L18: 30 | M18: 49.99 | N18: 33646
A19: 62d82b900facf10d3fc880e8 | B19: SET of 2! Coconut Tree Candle Holders | I19: MW36006 | L19: 30 | M19: 69.99 | N19: 36006
A20: 62d82b980facf10d3fc88510 | B20: Cotton Padded Swing Chair Hammock | I20: MW34302 | L20: 30 | M20: 114.99 | N20: 34302
A21: 62d82b9a0facf10d3fc88687 | B21: Palm Tree Rattan Table Lamp | I21: MW37989 | L21: 30 | M21: 174.99 | N21: 37989
A22: 62d82b9b0facf10d3fc8879a | B22: Set of 2 White indoor/outdoor Railroad Candle Lanterns | I22: MW39572 | L22: 30 | M22: 54.99 | N22: 39572
A23: 62d82b6e0facf10d3fc8750f | B23: Set of 2 Rustic Antler Candle Holder | I23: MW38444 | L23: 30 | M23: 54.99 | N23: 38444
A24: 6164d2efc8c9f047953987f9 | B24: IBERIA BLACK AND GOLD VASE | I24: MW5001058 | J24: 849000000000 | L24: 30 | M24: 99.99 | N24: 5001058
A25: 6342557fc29bdb04c95372c4 | B25: Rose Metal Frame Caring Lantern | I25: MW10018524 | L25: 30 | M25: 69.99 | N25: 10018524
A26: 634255a2c29bdb165c537382 | B26: SET OF 3 TROPICAL MINI LANTERNS | I26: MW10019090 | L26: 30 | M26: 59.99 | N26: 10019090
A27: 633cfc585f9ec8eae468fa9f | B27: Baby Blue Hanging Railroad Lanterns | I27: MW10017408 | L27: 30 | M27: 59.99 | N27: 10017408
A28: 633cfc515f9ec80c8768fa6e | B28: Climbing Squirrel Decor | I28: MW10017279 | L28: 30 | M28: 89.99 | N28: 10017279
A29: 633cfc4c5f9ec808f268fa45 | B29: Rooster Wall Hook | I29: MW10017091 | L29: 30 | M29: 49.99 | N29: 10017091
A30: 633cfc445f9ec870ce68fa0f | B30: Garden Gate Solar Lantern | I30: MW10016222 | L30: 30 | M30: 99.99 | N30: 10016222
A31: 633cfc5c5f9ec8aa3168fab6 | B31: Photo Frame Tray | I31: MW10017442 | L31: 30 | M31: 89.99 | N31: 10017442
A32: 633cfc535f9ec8305968fa7c | B32: See Hear Speak Skulls Trio | I32: MW10017293 | L32: 30 | M32: 39.99 | N32: 10017293
A33: 63425598c29bdb1e8453735d | B33: ANTIQUE-STYLE FLORAL LANTERN | I33: MW10018607 | L33: 30 | M33: 69.99 | N33: 10018607
A34: 633cfc5b5f9ec8113f68fab1 | B34: Butterfly Garden Ceramic Stool | I34: MW10017413 | L34: 30 | M34: 244.99 | N34: 10017413
A35: 63425581c29bdb15a25372d2 | B35: Rose Metal Frame Family Lantern | I35: MW10018526 | L35: 30 | M35: 69.99 | N35: 10018526
A36: 63425591c29bdb262153732f | B36: Moroccan Birdcage Lantern | I36: MWD1082 | L36: 30 | M36: 69.99 | N36: D1082
A37: 63425582c29bdb08d85372e0 | B37: White Lace Victorian Style Lantern | I37: MW10018612 | L37: 30 | M37: 74.99 | N37: 10018612
A38: 62d82b7f0facf10d3fc87c64 | B38: Wild Western Water Fountain garden decor cowboy boots style pump included | I38: MW13056 | L38: 30 | M38: 269.99 | N38: 13056
A39: 633b3b482c02ac71cc308f6a | B39: On Strike Garden Gnome | I39: MW37095 | L39: 30 | M39: 74.99 | N39: 37095
A40: 633b3a9a2c02acbbf6308728 | B40: Fleur-De-Lis Mirrored Wall Sconce | I40: MW10016157 | L40: 30 | M40: 124.99 | N40: 10016157
...

Sheet MR DATA
A1: Item. | B1: sku | C1: title | D1: quantity | E1: ETA1 | F1: PricePerUnit | G1: PriceFreeFreight | H1: SuggestedRetail
A2: 13066DS | B2: 13066 | C2: Baskets (Set of 2) 12"H, 18"H Rattan | D2: 61 | F2: 52.5 | G2: 66.5 | H2: 118.99
A3: 28024DS | B3: 28024 | C3: Mixed Pine Tree 650 Lights, 1672 Tips 7.5' PVC/Plastic/Metal Stand | D3: 0 | E3: Discontinued | F3: 290 | G3: 0 | H3: 0
A4: 28025DS | B4: 28025 | C4: Mixed Pine w/800 Lights, 2064 Tips, 9' PVC/Plastic/Metal Stand | D4: 0 | E4: Discontinued | F4: 345 | G4: 0 | H4: 0
A5: 28076DS | B5: 28076 | C5: Lantern (Set of 3) 14"H, 17"H, 20"H Metal/Glass | D5: 686 | F5: 47 | G5: 61 | H5: 108
A6: 28081DS | B6: 28081 | C6: Lantern (Set of 3) 14"H, 17"H, 20"H Metal/Glass | D6: 641 | F6: 47 | G6: 61 | H6: 108
A7: 32506DS | B7: 32506 | C7: Sequin/Beaded Butterfly Spray (Set of 12) 28"L Plastic | D7: 0 | E7: Discontinued | F7: 37.25 | G7: 51.25 | H7: 88.99
A8: 32514DS | B8: 32514 | C8: Sequin/Beaded Phoenix Spray (Set of 12) 24"L Polyester | D8: 0 | E8: Discontinued | F8: 33 | G8: 47 | H8: 79.99
A9: 34596DS | B9: 34596 | C9: Butterfly Pattern Tablecloth w/4 Candle Holders (6 Sets) 54"SQ, 3.5"H Satin/Glass | D9: 0 | E9: Discontinued | F9: 40 | G9: 54 | H9: 93.99
A10: 37200DS | B10: 37200 | C10: Styrofoam Balls in PVC Tube (6 Tubes) 3.5"Dx11"H Styrofoam/Plastic | D10: 0 | E10: Discontinued | F10: 19.58 | G10: 33.58 | H10: 53.99
A11: 37202DS | B11: 37202 | C11: Dcor Spheres (12 PVC Tubes) 3.5"Dx11"H Styrofoam/Plastic | D11: 11 | F11: 33.75 | G11: 47.75 | H11: 81.99
A12: 37203DS | B12: 37203 | C12: Styrofoam Balls in PVC Tube (6 Tubes) 3.5"Dx11"H Styrofoam/Plastic | D12: 0 | E12: Discontinued | F12: 19.58 | G12: 33.58 | H12: 53.99
A13: 38158DS | B13: 38158 | C13: Praying Angel (Set of 2) 16.5"H Polyresin | D13: 0 | E13: Discontinued | F13: 47.75 | G13: 66.75 | H13: 114.99
A14: 38400DS | B14: 38400 | C14: Daisy Wreath 23"D Polyester | D14: 102 | F14: 45.75 | G14: 59.75 | H14: 105.99
A15: 38401DS | B15: 38401 | C15: Daisy Wreath 23"D Polyester | D15: 165 | F15: 45.75 | G15: 59.75 | H15: 105.99
A16: 38452DS | B16: 38452 | C16: Angel Birdfeeder 23"H Dolomite | D16: 34 | F16: 56.5 | G16: 80.5 | H16: 136.99
A17: 38465DS | B17: 38465 | C17: Potted Fern (Set of 3) 14"H Plastic | D17: 30 | F17: 60.75 | G17: 74.75 | H17: 135.99
A18: 38485DS | B18: 38485 | C18: Lantern (Set of 3) 16.5"H, 22"H, 29"H Metal/Glass | D18: 0 | E18: Discontinued | F18: 88.5 | G18: 112.5 | H18: 200.99
A19: 38489DS | B19: 38489 | C19: Lantern (Set of 3) 12"H, 19"H, 27.5"H Metal/Glass | D19: 91 | F19: 80.25 | G19: 104.25 | H19: 184.99
A20: 38524DS | B20: 38524 | C20: Candle Holder w/Lid (Set of 2) 16.5"H, 18"H Glass/Metal | D20: 0 | E20: Discontinued | F20: 51.5 | G20: 65.5 | H20: 116.99
A21: 38593DS | B21: 38593 | C21: LED Wax Pillar Candle (Set of 6) 3"Dx4"H Wax/Plastic - 2 C Batteries Not Incld. | D21: 39 | F21: 46.25 | G21: 60.25 | H21: 106.5
A22: 38594DS | B22: 38594 | C22: LED Wax Pillar Candle (Set of 6 ) 3"Dx6"H Wax/Plastic - 2 C Batteries Not Incld. | D22: 6 | F22: 62.75 | G22: 76.75 | H22: 139.99
A23: 38595DS | B23: 38595 | C23: LED Wax Pillar Candle (Set of 4) 3"Dx8"H Wax/Plastic - 2 C Batteries Not Incld. | D23: 0 | E23: Discontinued | F23: 47.5 | G23: 61.5 | H23: 108.99
A24: 38596DS | B24: 38596 | C24: LED Wax Pillar Candle (Set of 4) 4"Dx5"H Wax/Plastic - 2 D Batteries Not Incld. | D24: 13 | F24: 58.75 | G24: 72.75 | H24: 131.99
A25: 38600DS | B25: 38600 | C25: LED Wax Dripping Pillar Candle (Set of 4) 3"Dx4"H Wax/Plastic - 2 C Batteries Not Incld. | D25: 274 | F25: 31 | G25: 45 | H25: 76
A26: 38601DS | B26: 38601 | C26: LED Wax Dripping Pillar Candle (Set of 4) 3"Dx6"H Wax/Plastic - 2 C Batteries Not Incld. | D26: 229 | F26: 36 | G26: 50 | H26: 86
A27: 38602DS | B27: 38602 | C27: LED Wax Dripping Pillar Candle (Set of 3) 3"Dx8"H Wax/Plastic - 2 C Batteries Not Incld. | D27: 99 | F27: 34 | G27: 48 | H27: 82
A28: 38603DS | B28: 38603 | C28: LED Wax Dripping Pillar Candle (Set of 3) 4"Dx5"H Wax/Plastic - 2 D Batteries Not Incld. | D28: 211 | F28: 41 | G28: 55 | H28: 96
A29: 40369DS | B29: 40369 | C29: Glitter Ball Stem (Set of 6) 42"L PET/Wire | D29: 0 | E29: Discontinued | F29: 19.75 | G29: 33.75 | H29: 53.99
A30: 41222DS | B30: 41222 | C30: 2.5" x 10 Yds. (12 Rolls) Wired Polyester | D30: 0 | E30: Discontinued | F30: 29.75 | G30: 43.75 | H30: 73.99
A31: 41312DS | B31: 41312 | C31: 2.5" x 10 Yds. (12 Rolls) Wired Polyester | D31: 0 | E31: Discontinued | F31: 27.6 | G31: 40.6 | H31: 67.99
A32: 42021DS | B32: 42021 | C32: Summer Garden Trumpet Wreath 20''D Fabric | D32: 0 | E32: 1/5/2023 | F32: 27 | G32: 41 | H32: 68
A33: 42097DS | B33: 42097 | C33: LED Flickering Tea Light w/6 Hr Timer (Set of 12) 1"H Plastic (2 CR2450 Lithium Batt Incld.) | D33: 95 | F33: 39 | G33: 53 | H33: 92
A34: 42650DS | B34: 42650 | C34: Lantern (Set of 3) 11.5"H,16"H,24"H Metal/Glass | D34: 127 | F34: 65.5 | G34: 79.5 | H34: 145
A35: 42752DS | B35: 42752 | C35: 1.5" x 10 Yds. (18 Rolls) Wired Nylon/Polyester | D35: 0 | E35: Discontinued | F35: 30.75 | G35: 44.75 | H35: 75.99
A36: 42754DS | B36: 42754 | C36: 1.5" x 10 Yds. (18 Rolls) Wired Nylon | D36: 0 | E36: Discontinued | F36: 29.25 | G36: 43.25 | H36: 72.99
A37: 42804DS | B37: 42804 | C37: LED Mini Pillar Candle w/Timer (Set of 12) 1.4"Dx3"H Wax/Plastic - 2 AA Batt Not Inlcd | D37: 13 | F37: 61.25 | G37: 75.25 | H37: 136.5
A38: 42805DS | B38: 42805 | C38: LED Mini Pillar Candle w/Timer (Set of 12) 1.4"Dx3"H Wax/Plastic - 2 AA Batt Not Inlcd | D38: 34 | F38: 61.25 | G38: 75.25 | H38: 136.5
A39: 44343DS | B39: 44343 | C39: Cape Gooseberry Wreath 20"D Twig/Fabric | D39: 893 | F39: 46 | G39: 60 | H39: 105.99
A40: 44358DS | B40: 44358 | C40: Lg Glitter Bow (Set of 18) 16"L Paper/Plastic | D40: 0 | E40: Discontinued | F40: 25.2 | G40: 38.2 | H40: 62.99
...

Sheet MWG DATA
A1: Item # | B1: Product Name | C1: Weight | D1: Description | E1: Wholesale Price | F1: MSRP | G1: Quantity Available | H1: UPC Code
A2: 10018083 | B2: Black Mini Contemporary Lantern | C2: 0.8 | D2: <p>Place a candle or LED of your choice inside the lantern to illuminate your space in a soft and serene glow. Use to create a centerpiece for parties or special events, display on a countertop or coffee table, or light up your outdoor space with flickering light. This lantern is the perfect way to enhance your home's decor!</p> <ul> <li>The lantern weighs 0.8 lbs and measures 3.62 x 4 x 8.75" high.</li> <li>This beautifully crafted lantern made of iron and glass is both durable and stunning</li> <li>Either hanging or stationary, this lantern will cast beautiful light wherever you display it! Removable glass and wood panel allows the easy replacement of your choice of candle or LED to light up the space and create a memorable home decor piece.</li> <li>To clean your lighting decor dust lightly or wipe with damp cloth as needed.</li> <li>This little lantern is the perfect lighting accent for even the smallest space. The sleek black framework is contemporary and cool, while the clear glass panels let the light from your favorite candle shine through. It's great indoors or outside!</li> </ul> | E2: 17.1 | F2: 27.95 | G2: 0 | H2: 849179032623
A3: 12047 | B3: Artisan Deco Bowl & Balls | C3: 2 | D3: Instantly create a striking centerpiece anywhere and add a dash of tribal flair! Striking tribal carvings add textural interest to a trio of decorative balls and matching wooden bowl. For decorative purposes only. MDF wood. Bowl: 11 1/2" diameter x 3 1/2" high; each ball is approx. 3 1/2" diameter. Set. UPC: 849179000561 | E3: 19.44 | F3: 39.95 | G3: 240 | H3: 849179000561
A4: 12053 | B4: Artisan Leaf Vase | C4: 2.7 | D4: Simple and striking, this circular wooden vase serves beautifully as a handsome backdrop for a grouping smaller objects, or on its own as a dramatic focal point. Graceful carved leaf adds natural appeal. Decorative purposes only. MDF wood. 13" x 4" x 11 1/2" high. UPC: 849179000578 | E4: 0 | F4: 30.95 | G4: 0 | H4: 0
A5: 12109 | B5: Fairy & Unicorn Figurine | C5: 1.6 | D5: A raven-haired fairy maiden and her unicorn companion share a moment of friendship; a storybook fantasy brought beautifully to life! Weight 1.6 lbs. Polyresin/powderstone blend. 5 1/4" x 4" x 8 1/4" high. UPC: 849179000165 | E5: 24.34 | F5: 58.95 | G5: 0 | H5: 0
A6: 12117 | B6: Sunfire Glass Vase | C6: 3.5 | D6: Brilliant reds and golds glow in any light, bringing a burst of color to any room. Add your favorite blooms to this striking glass vase for a breathtakingly beautiful focus piece! Decorative purposes only. Weight 3.5 lbs. Glass. 5 1/2" x 3" x 9" high. UPC: 849179010188 | E6: 45.9 | F6: 72.95 | G6: 240 | H6: 849179010188
A7: 12266 | B7: Guarding Dragon Accent Table | C7: 16.5 | D7: <p>Remarkably durable and stylish, this table will be the ideal addition for your living room, bathroom or bedroom for years to come. This table is made of high quality materials that are not only sturdy, but tasteful as well and can serve as a side table, end table, coffee table, etc. Versatile and classy, this table will look amazing anywhere you put it and will accent your home decor perfectly!</p> <ul> <li>The table weighs 16.5 lbs and measures 19 x 19 x 23.25" high.</li> <li>Made of polyresin and tempered glass to create functional and durable home d&eacute;cor</li> <li>This versatile table provides both storage and function, allowing you to store books, enjoy food &amp; coffee, or display flowers and treasures. Works great as an end table, laptop table, snack table or coffee table while simultaneously being a stylish home decor piece.</li> <li>To clean your table dust lightly or wipe with damp cloth as needed.</li> <li>Stunning stone-look statue table features a hissing dragon standing guard over his lord&rsquo;s treasure trove. Styled to resemble centuries-old castle gargoyles, this is a worthy decoration for the chamber of any king!</li> </ul> | E7: 108.73 | F7: 263.95 | G7: 0 | H7: 0
A8: 12287 | B8: Clear Glass Star Lantern | C8: 0.8 | D8: <p>Place a candle or LED of your choice inside the lantern to illuminate your space in a soft and serene glow. Use to create a centerpiece for parties or special events, display on a countertop or coffee table, or light up your outdoor space with flickering light. This lantern is the perfect way to enhance your home's decor!</p> <ul> <li>The lantern weighs 0.8 lbs. and measures 10.25 inches by 3.5 inches by 9.5 inches.</li> <li>This beautifully crafted lantern made of iron and glass is both durable and stunning.</li> <li>Either hanging or stationary, this lantern will cast beautiful light wherever you display it! Removable glass and wood panel allows the easy replacement of your choice of candle or LED to light up the space and create a memorable home d&eacute;cor piece.</li> <li>To clean your lighting d&eacute;cor dust lightly or wipe with a damp cloth as needed.</li> <li>Add a candle to this five-pointed star to fill the night with celestial light! Artistic hanging lantern features ornate panels of clearest glass set into a wrought-iron frame.</li> </ul> | E8: 12.24 | F8: 22.95 | G8: 0 | H8: 849179000493
A9: 12288 | B9: Red Glass Star Lantern | C9: 0.8 | D9: <p>Place a candle or LED of your choice inside the lantern to illuminate your space in a soft and serene glow. Use to create a centerpiece for parties or special events, display on a countertop or coffee table, or light up your outdoor space with flickering light. This lantern is the perfect way to enhance your home's decor!</p> <ul> <li>The lantern weighs 0.8 lbs. and measures 10.25 inches by 3 inches by 9.5 inches.</li> <li><span>Chain included.</span></li> <li>This beautifully crafted lantern made of iron and glass is both durable and stunning.</li> <li>Either hanging or stationary, this lantern will cast beautiful light wherever you display it! Removable glass and wood panel allows the easy replacement of your choice of candle or LED to light up the space and create a memorable home d&eacute;cor piece.</li> <li>To clean your lighting d&eacute;cor dust lightly or wipe with a damp cloth as needed.</li> <li>Star light, star bright; this lantern is an artistic way to beautify candlelight! Patterned glass panels glow richly when lit from within, creating a captivating crimson glow.</li> </ul> | E9: 14.4 | F9: 22.95 | G9: 0 | H9: 849179010218
A10: 12295 | B10: Rustic Forest Fireplace Screen | C10: 10 | D10: Magnificent metalwork fire screen features cutout silhouettes of deer and mountains; absolutely magical when backlit by firelight!Weathered bronze finish gives this the instant appeal of a well-loved antique. Three-part folding design with mesh screen. Weight 10 lbs. Wrought iron. 54" x 1/2" x 32 1/2" high. UPC: 849179010225 | E10: 0 | F10: 169.95 | G10: 0 | H10: 0
A11: 12302 | B11: Eternal Steps Fountain | C11: 2.8 | D11: Fire and water combine to form one spectacular decoration! Cascades of water trickle down faux-stone steps, while tealights glimmer from atop twin pillars. A tabletop fountain to treasure! Weight 2.8 lbs. Polyresin. Candles not included. 8 5/8" diameter x 11" high. UL Recognized UPC: 849179000233 | E11: 0 | F11: 81.95 | G11: 0 | H11: 0
A12: 12492 | B12: Spiral Oil Warmer | C12: 4.4 | D12: <p>Fill your home with serenity and fragrance with the Spiral Oil Warmer. Perfect as a gift or for personal use this ceramic oil warmer serves as functional home d&eacute;cor that both looks and smells amazing. This oil warmer can be filled with any number of essential oils allowing you to blend and choose the ideal scent for your mood from calm to uplifting. It fits any standard tea-lights making it quick and easy to set up as well as clean up. Available is a variety of different shapes and styles so find the best one to surround yourself with aromatic serenity.</p> <ul> <li>Oil warmer weighs 0.4 lbs. and measures 4.75 inches by 4.75 inches by 4.5 inches. Fits perfectly on a shelf or table as meditative decor.</li> <li>The oil warmer is made from glass with a metal stand that is easy to clean and provides gorgeous sculptural details.</li> <li><span>Tealight candle and oil not included.</span></li> <li>Design a peaceful and aromatic ambience by warming and diffusing the essential oils of your choice. Simply pour your favorite scented oil into the top and light a candle underneath to create a tranquil and perfumed environment.</li> <li>Clean with soap and water to remove remaining fragrance oils and candle residue before next use.</li> <li>Perfect as a gift to use during meditation, yoga, or to simply make your home smell amazing. It works with practically any essential oil so feel free to create your own unique scents.</li> </ul> | E12: 5.04 | F12: 9.95 | G12: 240 | H12: 849179010249
A13: 12503 | B13: Vintage Trailer Birdhouse | C13: 1 | D13: <p>Create a birdwatching sanctuary in your own backyard with this fun and unique birdhouse! This functional d&eacute;cor piece is snug and comfortable for most modest size nesting birds while providing endless entertainment for yourself and your family. Available in a variety of shapes, sizes, and styles, choose your favorite one-of-a kind birdhouse!</p> <ul> <li>The birdhouse weighs 1.0 lbs and measures <span>8 1/4" x 6 1/8" x 6 3/4" high.&nbsp;</span> - Perfect for a pair of nesting birds!</li> <li>Made from Eucalyptus wood to create a sturdy and decorative home for your feathered friends.</li> <li>Create a comfy campground for your fly-in guests with this cozy little trailer! Comical birdhouse comes complete with all the accessories of an old-time outdoor paradise.</li> <li>To clean your garden birdhouse remove out of season nesting materials through the hole in the back and wipe with damp cloth as needed.</li> <li>Either hung from it's loop or rested on an elevated surface outside, this birdhouse provide a quirky and cozy home for local birds as well as amusing and enjoyable home d&eacute;cor for yourself.</li> </ul> | E13: 21.06 | F13: 40.95 | G13: 240 | H13: 849179013257
... A83: 13842 | B83: Wagon Wheel Double-Tier Planter | C83: 11 | D83: Add a fresh touch of the country, complete with greenery, and enjoy your garden in a whole new way! Double-level planter features a quaint wagon wheel theme and rustic finish, with plenty of room to proudly show off your favorite blooms. Weight 11 lbs. Fir wood. Plants not included. Some Assembly Required. 21 1/8" x 13" x 22" high; each planter: 19" x 8" x 8" high. UPC: 849179010638 | E83: 0 | F83: 164.95 | G83: 0 | H83: 0
A84: 13843S | B84: COUNTRY FLOWER CART PLANTER | C84: 4.3 | D84: <p>Show off your green thumb with this gorgeous planter! Perfect for both indoors and outdoors, this planter will look good anywhere in your home from a statement porch piece, sunroom storage, garden enhancement or patio accent. Customize with the greenery of your choice and watch your home bloom!</p> <ul> <li>The planter weighs 4.3 lbs and measures <span>33" x 9 3/4" x 11 1/4" high.</span> - the perfect size for sprucing up your garden space!</li> <li>Made of durable firwood that will beautifully and securely display your flora</li> <li>This planter is the perfect way to display your favorite flowers, shrubs or trees. Brighten up your garden, patio, sunroom, or interior space with lush greenery and a touch of style!</li> <li>To clean your set of planters dust lightly or wipe with damp cloth as needed.</li> <li>Capture the charm of a farmer's country market with this winsome miniature flower cart! Just arrange your greenery or colorful decorative accents inside and instantly add a wagon load of blooming color to your yard.</li> </ul> | E84: 36.72 | F84: 67.95 | G84: 240 | H84: 849179010645
A85: 13854 | B85: School Days Photo Frame | C85: 2.4 | D85: <p>Exhibit your favorite school memories with this gorgeous frame! Fill with the K-12 pictures of your choice and place in your hallway, living room, kitchen, or bedroom as reminiscent decoration. Frames are easily opened to allow placement of new pictures and add a touch of nostalgia to any space.</p> <ul> <li>The frame weighs 2.4 lbs and measures <span>15 1/4" x 1/2" x 12 1/2" high.&nbsp;</span></li> <li>Made of glass and wood to protect and display your favorite memories</li> <li>Display your child's growth with this stylish and functional photo frame! Perfect as bedroom, living room, kitchen, or hallway d&eacute;cor, this frame will look amazing while simultaneously capturing your child's school journey.</li> <li>To clean your cherished frame dust lightly or wipe with damp cloth as needed.</li> <li>Fun photo frame traces your child's progress through school from start to finish! A warm-hearted way to display your ongoing pride as your favorite student makes his&nbsp;or her way towards graduation. Fits 1&frac12;" x 2&frac14;" photos. Features a 2 saw-tooth on back for easy hanging.</li> </ul> | E85: 18 | F85: 27.95 | G85: 240 | H85: 849179010652
A86: 13895 | B86: Swirl Oil Warmer | C86: 0.5 | D86: Fascinating swirls of gleaming sculpted silver come together in a masterpiece of modern art, supporting a sleek glass dish above a candles golden flame. More than just a theatrical decoration, this sophisticated sculpture is an elegant fragrance diffuser when your favorite scented oil is warmed by the glowing tealight below. Weight 0.5 pounds. 5" x 5" x 3.75". Iron, Glass. Oil and candle not included. UPC Number: 849179010669. | E86: 6.48 | F86: 11.95 | G86: 240 | H86: 849179010669
A87: 13900 | B87: Hummingbird Haven Fountain | C87: 9.8 | D87: This fountain is absolutely breathtaking! This stunning show of motion and light is sure to be the showpiece of your garden both day and night, with luminescent lights bringing the birds to glowing life as the sun goes down. Submersible pump and electrical adaptor included. Natural river rocks included. AC/AC adaptor model: input 120V AC 60Hz 150mA. Output: 12V AC 500mA. Total Weight: 9.8 lbs. 11" x 10¬¢" x 22?" high. Resin, metal, and plastic. UL Recognized UPC: 849179010676. | E87: 0 | F87: 245.95 | G87: 0 | H87: 0
A88: 13903 | B88: Royal Dragon Goblet | C88: 1.3 | D88: <p>Add a touch of magic to your home with this mystical piece! Wonderful as bookshelf d&eacute;cor or fancy dinners, this goblet is the perfect mystical accent to turn your home from everyday into extraordinary. Great as a gift for fantasy lovers!</p> <ul> <li>This mythical piece weighs 1.3 lbs and measures 4 x 4 x 7.37" high.</li> <li>Made of durable and detailed stainless steel and polyresin that captures each fantastical facet</li> <li>Use for a variety of purposes including room d&eacute;cor, dining table accents, bookshelf additions, or as a fantastic gift. These goblets can be anything you imagine!</li> <li>To clean your goblet hand wash the inner stainless steel cup only.</li> <li>Fit to reign at the head of any grand banquet table, this bejeweled goblet beautifully recalls the tales of mighty kings and queens. Fantasy comes to life in every intricate detail of rich scrollwork, gleaming gems and a dragon's head crest. Crafted of durable resin with removable stainless steel inner drinking cup.</li> </ul> | E88: 30.6 | F88: 49.95 | G88: 240 | H88: 849179003432
A89: 13907 | B89: Crimson Sunset Art Glass Vase | C89: 6 | D89: A sparkling freeform vase celebrates the beauty of an autumn sunset, setting your surroundings alive with vibrant color. This abstract artwork is lovely alone, but especially stunning when filled with a graceful bouquet! Decorative purposes only. Each piece is individually hand-crafted for its unique beauty; therefore, it may have slight differences from the pictured item. Weight 6 lbs. Glass. 7 1/2" x 3 1/2" x 12 1/4" high. UPC: 849179001971 | E89: 61.2 | F89: 106.95 | G89: 151 | H89: 849179001971
A90: 13913 | B90: Making Friends Solar Sculpture | C90: 2 | D90: <p>Decorate your home indoor or out with this solar light statue! Use it to spruce up your garden, light up a pathway, accompany a vegetable patch, brighten up a patio, or even to adorn a sunny shelf. An amazing housewarming gift, this statue will light up any home and garden space with cheer and whimsy!</p> <ul> <li>The solar light weighs 2.0 lbs. and measures 5.75x9x10.5 inches.</li> <li>Made of durable polyresin, solar panel, LED light to create beautifully detailed d&eacute;cor.</li> <li>A sweet addition to your front or backyard garden, this garden d&eacute;cor will make your outdoor space feel instantly more inviting. Place near a pond, fountain, flower or vegetable garden and the solar light will provide a soft glow at night.</li> <li>To clean your garden ornament, dust lightly or wipe with a damp cloth as needed.</li> <li>A bright-eyed boy shares a playful moment with his beloved pet turtle and a visiting butterfly joins in the fun. Makes a playful lighting and d&eacute;cor addition to either your indoor or outdoor space!</li> </ul> | E90: 37.8 | F90: 57.95 | G90: 171 | H90: 849179010706
A91: 13915 | B91: Peony Fairy Solar Statue | C91: 3.5 | D91: <p>Decorate your home indoor or out with this solar light statue! Use it to spruce up your garden, light up a pathway, accompany a vegetable patch, brighten up a patio, or even to adorn a sunny shelf. An amazing housewarming gift, this statue will light up any home and garden space with cheer and whimsy!</p> <ul> <li>This statue weighs 3.5 lbs. and measures 12x11x18 inches.</li> <li>Made of durable polyresin, a solar panel, and LED lights to create a beautifully detailed sculpture.</li> <li>A sweet addition to your front or backyard garden, this statue will make your outdoor space feel instantly more inviting. Place near a pond, fountain, flower or vegetable garden and the solar light will provide a soft glow at night.</li> <li>To clean your statue, dust lightly or wipe with a damp cloth as needed.</li> <li>A sweet young fairy pauses to admire a new-found patch of blushing blooms, blessing your garden with the beauty of spring. Enjoy this statue both day and night, thanks to tiny solar lights nestled inside each lovely flower!</li> </ul> | E91: 72 | F91: 113.95 | G91: 240 | H91: 849179010720
A92: 13917 | B92: Dawn Blossom Tealight Holder | C92: 0.7 | D92: A single graceful bloom glows at the end of a slender stem, its golden glass cup filled with lustrous candlelight. A cherished addition to your romantic decorating theme! Weight 0.7 lb. Iron, glass and acrylic. Candle not included. 4 1/8" diameter x 12 3/4" high. UPC: 849179002008 | E92: 0 | F92: 15.95 | G92: 0 | H92: 0
A93: 13918 | B93: Dawn Flower Candle Holder | C93: 4.7 | D93: A spellbinding arrangement of slender stems and blossoms captures the warm colors of the rising sun√Üs first light. A dramatic decoration, especially when crowned with a captivating aura of golden candlelight! Weight 4.7 lbs. Iron, glass and acrylic. Tealight candles not included. 2 1/2" x 8" x 32" high. UPC: 849179010737 | E93: 0 | F93: 92.95 | G93: 0 | H93: 0
A94: 13919 | B94: Calla Lily Candle Holder | C94: 1.5 | D94: <p>This one of a kind candleholder is the perfect accent for any living room, dining room, or patio. Complete with the candle or LED light of your choice to create a customizable flickering ambience that will enhance any space. An ideal gift or finishing touch to your own personal home d&eacute;cor, this decorative and durable candleholder will be shedding light for years to come.</p> <ul> <li>The candleholder weighs 1.5 lbs. and measures 8 inches by 5 inches by 15 inches.</li> <li>Made from durable iron, glass and acrylic for a long-lasting lighting d&eacute;cor piece.</li> <li>Use for a variety of interior/exterior decoration including, but not limited to: table centerpieces, mantel adornment, outdoor lighting, bookshelf d&eacute;cor, or foyer embellishment. This candleholder will add a distinctive flair and gorgeous glow to any space!</li> <li>To clean your lighting d&eacute;cor dust lightly or wipe with a damp cloth as needed.</li> <li>Slender calla lilies in a sophisticated shade of pewter add Art Deco elegance to any room. A glamorous decoration that's gorgeous by day, and entrancing by night when filled with quiet candlelight! Adds a warm, flickering glow to any room and makes an amazing housewarming gift.</li> </ul> | E94: 23.04 | F94: 45.95 | G94: 240 | H94: 849179010744
